BEGIN:VCALENDAR
VERSION:2.0
PRODID:-//St. Brendan&#039;s Rugby Club - ECPv6.15.20//NONSGML v1.0//EN
CALSCALE:GREGORIAN
METHOD:PUBLISH
X-WR-CALNAME:St. Brendan&#039;s Rugby Club
X-ORIGINAL-URL:https://stbrendansrugbyclub.com.ar
X-WR-CALDESC:Eventos para St. Brendan&#039;s Rugby Club
REFRESH-INTERVAL;VALUE=DURATION:PT1H
X-Robots-Tag:noindex
X-PUBLISHED-TTL:PT1H
BEGIN:VTIMEZONE
TZID:America/Argentina/Buenos_Aires
BEGIN:STANDARD
TZOFFSETFROM:-0300
TZOFFSETTO:-0300
TZNAME:-03
DTSTART:20250101T000000
END:STANDARD
END:VTIMEZONE
BEGIN:VEVENT
DTSTART;TZID=America/Argentina/Buenos_Aires:20260424T173000
DTEND;TZID=America/Argentina/Buenos_Aires:20260425T170000
DTSTAMP:20260423T143107
CREATED:20260303T122202Z
LAST-MODIFIED:20260423T101010Z
UID:25217-1777051800-1777136400@stbrendansrugbyclub.com.ar
SUMMARY:Brendan's Camp 2026
DESCRIPTION:VIERNES 24 y SABADO 25 de ABRIL 2026 \nVIERNES 24 DE ABRIL \n17:30 hs ENCUENTRO EN EL CLUB\nNos instalamos + merienda + armado de carpas\nActividades recreativas/juegos\n20:30 hs fin de actividades recreactivas\, momento de relajación\n21:00 hs cenamos todos juntos\n22:00 hs fogón + Actividades nocturnas\n23:00 hs a dormir (armamos las bolsas+aislantes) \nSÁBADO 25 DE ABRIL \n8:00 hs Arriba! Desayuno\n8:30 hs Desarmado de carpas y guardado de materiales\n10:00 hs Entrenamiento con Plantel Superior alentando\n12:00 hs Almuerzo/Tercer Tiempo\n15:30 Primera SBRC vs. Ciudad de Bs. As. \nELEMENTOS PERSONALES: \n\nBolsa de dormir + Aislante + Carpa\nLinterna\nRepelente de mosquitos\nProtector solar\nGorra\nAbrigo (buzo + campera)\nMuda de ropa (calzones/medias/pantalon/remera/calzado)\nRopa del Club para el entrenamiento del sábado (botines+protector bucal) / Ropa deportiva\n\nNotas:\nPueden venir los padres y madres\nTodas las comidas (merienda\, cena\, desayuno\, 3T ) están incluidas. \nCosto: $ 22.000.- por persona \nINSCRIBIR A CADA JUGADOR E INCLUIR LA CANTIDAD DE ACOMPAÑANTES. \nCONFIRMAR ASISTENCIA EN EL SIGUIENTE FORMULARIO\nhttps://gestionsbrc.com/publico/participacion/473/INF \nPAGAR SEGUN CANTIDAD DE PERSONAS INSCRIPTAS COMO PARTICIPANTES AL EVENTO EN EL SIGUIENTE LINK\nhttps://stbrendansrugbyclub.com.ar/?product=campamento-infantiles-2026\n \nMERCADO PAGO\nALIAS: MP.BRENDANS15 \nCARGAR EL COMPRIBANTE DE PAGO EN EL SIGUIENTE LINK\nhttps://gestionsbrc.com/publico/cargar-pago?categoria=PS
URL:https://stbrendansrugbyclub.com.ar/?tribe_events=brendans-camp-2026
LOCATION:SBRC – Pilar del Este\, A. Palma 3150\, Villa Rosa\, Pcia. Bs. As.\, Argentina
CATEGORIES:INFANTILES,SBRC RUGBY
ATTACH;FMTTYPE=image/png:https://sbrc.s3.sa-east-1.amazonaws.com/wp-content/uploads/2026/04/15142608/BRENDANS-CAMP-2026.png
END:VEVENT
BEGIN:VEVENT
DTSTART;TZID=America/Argentina/Buenos_Aires:20260425T093000
DTEND;TZID=America/Argentina/Buenos_Aires:20260425T123000
DTSTAMP:20260423T143107
CREATED:20260317T181703Z
LAST-MODIFIED:20260317T181703Z
UID:25550-1777109400-1777120200@stbrendansrugbyclub.com.ar
SUMMARY:ENCUENTRO INFANTILES EN EL CLUB
DESCRIPTION:Sábado 25 de Abril – 9:30 hs\nEncuentro con Ciudad de Bs. As. Les rogamos puntualidad.  \nRECUERDEN:  \n\nTomar un buen desayuno\nHidratación personal (jugadores y acompañantes)\nUsar protector solar y repelente para mosquitos\nTraer protector bucal e indumentaria de rugby\n\nPor cualquier duda o por nuevas familias que quieran empezar a jugar en St. Brendan´s Rugby Club por favor escribanos. Contacto. \n¡TODOS JUNTOS!\n¡VAMOS BRENDAN´S! \nIMPORTANTE:\nSI NECESITAS AYUDA PARA REALIZAR LA CORRECTA INSCRIPCION EN BDUAR O HACER EL APTO MEDICO. CONTACTO. \nLINKS EXPLICATIVOS SOBRE APTO MEDICO 2026 y CURSOS OBLIGATORIOS\nhttps://stbrendansrugbyclub.com.ar/apto-medico-uar/\nhttps://stbrendansrugbyclub.com.ar/rugby-seguro-uar/ \nLINKS DIRECTOS A PLATAFORMAS UAR\nhttps://bd.uar.com.ar/registro\nhttps://app.conecta.rugby/login \n 
URL:https://stbrendansrugbyclub.com.ar/?tribe_events=encuentro-infantiles-en-el-club-6
LOCATION:SBRC – Pilar del Este\, A. Palma 3150\, Villa Rosa\, Pcia. Bs. As.\, Argentina
CATEGORIES:INFANTILES,SBRC RUGBY
ATTACH;FMTTYPE=image/png:https://sbrc.s3.sa-east-1.amazonaws.com/wp-content/uploads/2026/03/17145635/2026-04-25-ENCUENTRO-INFANTILES-EN-EL-CLUB-1.png
END:VEVENT
BEGIN:VEVENT
DTSTART;TZID=America/Argentina/Buenos_Aires:20260426T120000
DTEND;TZID=America/Argentina/Buenos_Aires:20260426T143000
DTSTAMP:20260423T143107
CREATED:20260408T185621Z
LAST-MODIFIED:20260408T190318Z
UID:25870-1777204800-1777213800@stbrendansrugbyclub.com.ar
SUMMARY:SBRC M17 vs Almafuerte - 12:30 hs - Fecha 3 - LOCAL
DESCRIPTION:SBRC M17 – FORMATIVA – ZONA C – 1º Rueda 2026 \nSBRC M17 vs Almafuerte – 12:30 hs – Fecha 3 – LOCAL \nHorario de los partidos 14:00 Horas\n(1) El Club Almafuerte juega de local a las 13:00 hs\n(2) Los Clubes San Jose\, St Brendan´s\, Marcos Paz\, La Salle\, Ezeiza\, Arsenal Zarate y C. de Campana \, Marcos Paz\, La Salle\, Ezeiza\, Arsenal Zarate y C. de Campana juegan de locales a las 12:30 hs \nIMPORTANTE:\nLos Jugadores deben ser convocados y estar habilitados para jugar por los Entrenadores y/o los managers de la categoría. \nSI NECESITAS AYUDA PARA REALIZAR LA CORRECTA INSCRIPCION EN BDUAR O HACER EL APTO MEDICO.  \nCONTACTO:\nFederico Troncoso +54 9 3329 57-8520\nPablo Pereira +54 9 11 2711-6712 \nLINKS EXPLICATIVOS SOBRE APTO MEDICO 2026 Y CURSOS OBLIGATORIOS\nhttps://stbrendansrugbyclub.com.ar/?page_id=504\nhttps://stbrendansrugbyclub.com.ar/?page_id=546 \nLINKS DIRECTOS A PLATAFORMAS UAR\nhttps://bd.uar.com.ar/registro\nhttps://app.conecta.rugby/login
URL:https://stbrendansrugbyclub.com.ar/?tribe_events=sbrc-m17-vs-almafuerte-1230-hs-fecha-3-local
LOCATION:SBRC – Pilar del Este\, A. Palma 3150\, Villa Rosa\, Pcia. Bs. As.\, Argentina
CATEGORIES:JUVENILES,SBRC RUGBY
ATTACH;FMTTYPE=image/png:https://sbrc.s3.sa-east-1.amazonaws.com/wp-content/uploads/2026/04/08150754/2026-04-26-FECHA-3-M17-WEB.png
END:VEVENT
END:VCALENDAR